BEGIN:VCALENDAR
VERSION:2.0
PRODID:-//hacksw/handcal//NONSGML v1.0//EN
BEGIN:VEVENT
SUMMARY:Rennes CPB 21 vs Janze 21 (poussins/benjamins)
UID:6d3c9984-1913-45d4-9164-5b5b362b41ca
DTSTART:20260509T113000Z
DTEND:20260509T220000Z
LOCATION:Localisation   
CATEGORIES:Sportif
STATUS:
DESCRIPTION:<p>Rencontre de la derniere journee de championnat,
 prevue initialement le 30 mai, avancee au 9 mai.</p>
URL;VALUE=URI:https://www.janzeping.fr/evenements/2026/05/09/rennes-cpb-21-vs-janze-21-poussinsbenjamins-2399666
END:VEVENT
END:VCALENDAR
